BEGIN:VCALENDAR
VERSION:2.0
PRODID:-//Tewa - ECPv6.15.20//NONSGML v1.0//EN
CALSCALE:GREGORIAN
METHOD:PUBLISH
X-ORIGINAL-URL:https://tewa.org.np
X-WR-CALDESC:Events for Tewa
REFRESH-INTERVAL;VALUE=DURATION:PT1H
X-Robots-Tag:noindex
X-PUBLISHED-TTL:PT1H
BEGIN:VTIMEZONE
TZID:Asia/Katmandu
BEGIN:STANDARD
TZOFFSETFROM:+0545
TZOFFSETTO:+0545
TZNAME:+0545
DTSTART:20240101T000000
END:STANDARD
END:VTIMEZONE
BEGIN:VEVENT
DTSTART;TZID=Asia/Katmandu:20250411T080000
DTEND;TZID=Asia/Katmandu:20250414T170000
DTSTAMP:20260419T162932
CREATED:20250403T082219Z
LAST-MODIFIED:20250403T083422Z
UID:227387-1744358400-1744650000@tewa.org.np
SUMMARY:1 Billion Rising
DESCRIPTION:Upcoming event
URL:https://tewa.org.np/event/1-billion-rising-2/
ATTACH;FMTTYPE=image/jpeg:https://tewa.org.np/wp-content/uploads/2025/04/Tewa-Building-scaled.jpg
END:VEVENT
END:VCALENDAR