BEGIN:VCALENDAR
VERSION:2.0
PRODID:-//Tewa - ECPv6.15.20//NONSGML v1.0//EN
CALSCALE:GREGORIAN
METHOD:PUBLISH
X-WR-CALNAME:Tewa
X-ORIGINAL-URL:https://tewa.org.np
X-WR-CALDESC:Events for Tewa
REFRESH-INTERVAL;VALUE=DURATION:PT1H
X-Robots-Tag:noindex
X-PUBLISHED-TTL:PT1H
BEGIN:VTIMEZONE
TZID:Asia/Katmandu
BEGIN:STANDARD
TZOFFSETFROM:+0545
TZOFFSETTO:+0545
TZNAME:+0545
DTSTART:20240101T000000
END:STANDARD
END:VTIMEZONE
BEGIN:VEVENT
DTSTART;TZID=Asia/Katmandu:20250511T170000
DTEND;TZID=Asia/Katmandu:20250511T210000
DTSTAMP:20260421T083838
CREATED:20250507T104733Z
LAST-MODIFIED:20250507T105239Z
UID:243994-1746982800-1746997200@tewa.org.np
SUMMARY:Theme Dinner
DESCRIPTION:
URL:https://tewa.org.np/event/theme-dinner/
LOCATION:Achaar Ghar\, Achaar Ghar Kupondole\, Lalitpur\, 44600\, Nepal
END:VEVENT
END:VCALENDAR