BEGIN:VCALENDAR
VERSION:2.0
PRODID:-//Tewa - ECPv6.15.20//NONSGML v1.0//EN
CALSCALE:GREGORIAN
METHOD:PUBLISH
X-WR-CALNAME:Tewa
X-ORIGINAL-URL:https://tewa.org.np
X-WR-CALDESC:Events for Tewa
REFRESH-INTERVAL;VALUE=DURATION:PT1H
X-Robots-Tag:noindex
X-PUBLISHED-TTL:PT1H
BEGIN:VTIMEZONE
TZID:Asia/Katmandu
BEGIN:STANDARD
TZOFFSETFROM:+0545
TZOFFSETTO:+0545
TZNAME:+0545
DTSTART:20240101T000000
END:STANDARD
END:VTIMEZONE
BEGIN:VEVENT
DTSTART;TZID=Asia/Katmandu:20250605T000000
DTEND;TZID=Asia/Katmandu:20250605T233000
DTSTAMP:20260421T103148
CREATED:20250403T083910Z
LAST-MODIFIED:20250403T083910Z
UID:227392-1749081600-1749166200@tewa.org.np
SUMMARY:World Earth Day
DESCRIPTION:World Earth Day celebration.
URL:https://tewa.org.np/event/world-earth-day/
END:VEVENT
BEGIN:VEVENT
DTSTART;TZID=Asia/Katmandu:20250608T170000
DTEND;TZID=Asia/Katmandu:20250608T200000
DTSTAMP:20260421T103148
CREATED:20250602T095324Z
LAST-MODIFIED:20250602T095326Z
UID:244125-1749402000-1749412800@tewa.org.np
SUMMARY:Deep Prajwalan
DESCRIPTION:Let’s come together to raise funds to uplift Nepalese women. All funds raised will support Nepali women’s organisations.
URL:https://tewa.org.np/event/deep-prajwalan/
LOCATION:Tewa\, Dhapakhel\, Lalitpur\, Bagmati\, Nepal
END:VEVENT
BEGIN:VEVENT
DTSTART;TZID=Asia/Katmandu:20250819T000000
DTEND;TZID=Asia/Katmandu:20250819T235959
DTSTAMP:20260421T103148
CREATED:20250611T081118Z
LAST-MODIFIED:20250611T081120Z
UID:244129-1755561600-1755647999@tewa.org.np
SUMMARY:World Humanitarian Day
DESCRIPTION:
URL:https://tewa.org.np/event/world-humanitarian-day/
END:VEVENT
BEGIN:VEVENT
DTSTART;TZID=Asia/Katmandu:20250830T000000
DTEND;TZID=Asia/Katmandu:20250830T235959
DTSTAMP:20260421T103148
CREATED:20250811T100449Z
LAST-MODIFIED:20250811T100453Z
UID:244144-1756512000-1756598399@tewa.org.np
SUMMARY:Tree Plantation
DESCRIPTION:
URL:https://tewa.org.np/event/tree-plantation/
LOCATION:Majushree Park\, Chovar\, Nepal
END:VEVENT
BEGIN:VEVENT
DTSTART;TZID=Asia/Katmandu:20260425T000000
DTEND;TZID=Asia/Katmandu:20260425T235959
DTSTAMP:20260421T103148
CREATED:20260403T065336Z
LAST-MODIFIED:20260403T065338Z
UID:244183-1777075200-1777161599@tewa.org.np
SUMMARY:Momo Fest
DESCRIPTION:
URL:https://tewa.org.np/event/momo-fest/
LOCATION:The Lawn\, Jhamsikhel\, The Lawn [Nanglo] Jhamsikhel Road\, Lalitpur\, Lalitpur\, Nepal
END:VEVENT
END:VCALENDAR